Workbook
Name _Toc108178203: resources!$R$117
Name lessons: resources!$B:$S
Name lessons: statements!$B:$AG
Name lessons: #REF!

Sheet keystagesyllabuses
A1: Department | B1: Subject | C1: SubjectCode | D1: KeyStage | E1: Title | F1: ID
A2: Science Department | B2: Biology | C2: Bi | D2: 5 | E2: =_xlfn.CONCAT("Key Stage ",Table1315[[#This Row],[KeyStage]]," ",Table1315[[#This Row],[Subject]]) -> Key Stage 5 Biology | F2: =_xlfn.CONCAT("KS",D2,".",SUBSTITUTE(B2," ","")) -> KS5.Biology
A3: Science Department | B3: Chemistry | C3: Ch | D3: 5 | E3: =_xlfn.CONCAT("Key Stage ",Table1315[[#This Row],[KeyStage]]," ",Table1315[[#This Row],[Subject]]) -> Key Stage 5 Chemistry | F3: =_xlfn.CONCAT("KS",D3,".",SUBSTITUTE(B3," ","")) -> KS5.Chemistry
A4: Science Department | B4: Physics | C4: Ph | D4: 5 | E4: =_xlfn.CONCAT("Key Stage ",Table1315[[#This Row],[KeyStage]]," ",Table1315[[#This Row],[Subject]]) -> Key Stage 5 Physics | F4: =_xlfn.CONCAT("KS",D4,".",SUBSTITUTE(B4," ","")) -> KS5.Physics
A5: Science Department | B5: Biology | C5: Bi | D5: 4 | E5: =_xlfn.CONCAT("Key Stage ",Table1315[[#This Row],[KeyStage]]," ",Table1315[[#This Row],[Subject]]) -> Key Stage 4 Biology | F5: =_xlfn.CONCAT("KS",D5,".",SUBSTITUTE(B5," ","")) -> KS4.Biology
A6: Science Department | B6: Chemistry | C6: Ch | D6: 4 | E6: =_xlfn.CONCAT("Key Stage ",Table1315[[#This Row],[KeyStage]]," ",Table1315[[#This Row],[Subject]]) -> Key Stage 4 Chemistry | F6: =_xlfn.CONCAT("KS",D6,".",SUBSTITUTE(B6," ","")) -> KS4.Chemistry
A7: Science Department | B7: Physics | C7: Ph | D7: 4 | E7: =_xlfn.CONCAT("Key Stage ",Table1315[[#This Row],[KeyStage]]," ",Table1315[[#This Row],[Subject]]) -> Key Stage 4 Physics | F7: =_xlfn.CONCAT("KS",D7,".",SUBSTITUTE(B7," ","")) -> KS4.Physics
A8: Science Department | B8: Science | C8: Sc | D8: 3 | E8: =_xlfn.CONCAT("Key Stage ",Table1315[[#This Row],[KeyStage]]," ",Table1315[[#This Row],[Subject]]) -> Key Stage 3 Science | F8: =_xlfn.CONCAT("KS",D8,".",SUBSTITUTE(B8," ","")) -> KS3.Science
A9: Pastoral Department | B9: Form Time | C9: Rg | D9: 3 | E9: =_xlfn.CONCAT("Key Stage ",Table1315[[#This Row],[KeyStage]]," ",Table1315[[#This Row],[Subject]]) -> Key Stage 3 Form Time | F9: =_xlfn.CONCAT("KS",D9,".",SUBSTITUTE(B9," ","")) -> KS3.FormTime
A10: Pastoral Department | B10: Form Time | C10: Rg | D10: 4 | E10: =_xlfn.CONCAT("Key Stage ",Table1315[[#This Row],[KeyStage]]," ",Table1315[[#This Row],[Subject]]) -> Key Stage 4 Form Time | F10: =_xlfn.CONCAT("KS",D10,".",SUBSTITUTE(B10," ","")) -> KS4.FormTime
A11: Pastoral Department | B11: Form Time | C11: Rg | D11: 5 | E11: =_xlfn.CONCAT("Key Stage ",Table1315[[#This Row],[KeyStage]]," ",Table1315[[#This Row],[Subject]]) -> Key Stage 5 Form Time | F11: =_xlfn.CONCAT("KS",D11,".",SUBSTITUTE(B11," ","")) -> KS5.FormTime

Sheet yeargroupsyllabuses
A1: Subject | B1: SubjectCode | C1: KeyStage | D1: YearGroup | E1: Title | F1: ID
A2: Science | B2: Sc | C2: 3 | D2: 7 | E2: =IF(ISNUMBER(Table13[[#This Row],[YearGroup]]),_xlfn.CONCAT("Year ",Table13[[#This Row],[YearGroup]]," ",Table13[[#This Row],[Subject]]),_xlfn.CONCAT("Key Stage ",Table13[[#This Row],[KeyStage]]," ",Table13[[#This Row],[Subject]]," (",Table13[[#This Row],[YearGroup]],")")) -> Year 7 Science | F2: =IF(ISNUMBER(Table13[[#This Row],[YearGroup]]),_xlfn.CONCAT("Y", D2, ".", SUBSTITUTE(A2," ","")), _xlfn.CONCAT("KS",Table13[[#This Row],[KeyStage]],".",Table13[[#This Row],[Subject]],".",Table13[[#This Row],[YearGroup]])) -> Y7.Science
A3: Science | B3: Sc | C3: 3 | D3: 8 | E3: =IF(ISNUMBER(Table13[[#This Row],[YearGroup]]),_xlfn.CONCAT("Year ",Table13[[#This Row],[YearGroup]]," ",Table13[[#This Row],[Subject]]),_xlfn.CONCAT("Key Stage ",Table13[[#This Row],[KeyStage]]," ",Table13[[#This Row],[Subject]]," (",Table13[[#This Row],[YearGroup]],")")) -> Year 8 Science | F3: =IF(ISNUMBER(Table13[[#This Row],[YearGroup]]),_xlfn.CONCAT("Y", D3, ".", SUBSTITUTE(A3," ","")), _xlfn.CONCAT("KS",Table13[[#This Row],[KeyStage]],".",Table13[[#This Row],[Subject]],".",Table13[[#This Row],[YearGroup]])) -> Y8.Science
A4: Science | B4: Sc | C4: 3 | D4: Core | E4: =IF(ISNUMBER(Table13[[#This Row],[YearGroup]]),_xlfn.CONCAT("Year ",Table13[[#This Row],[YearGroup]]," ",Table13[[#This Row],[Subject]]),_xlfn.CONCAT("Key Stage ",Table13[[#This Row],[KeyStage]]," ",Table13[[#This Row],[Subject]]," (",Table13[[#This Row],[YearGroup]],")")) -> Key Stage 3 Science (Core) | F4: =IF(ISNUMBER(Table13[[#This Row],[YearGroup]]),_xlfn.CONCAT("Y", D4, ".", SUBSTITUTE(A4," ","")), _xlfn.CONCAT("KS",Table13[[#This Row],[KeyStage]],".",Table13[[#This Row],[Subject]],".",Table13[[#This Row],[YearGroup]])) -> KS3.Science.Core
A5: Science | B5: Sc | C5: 3 | D5: Special | E5: =IF(ISNUMBER(Table13[[#This Row],[YearGroup]]),_xlfn.CONCAT("Year ",Table13[[#This Row],[YearGroup]]," ",Table13[[#This Row],[Subject]]),_xlfn.CONCAT("Key Stage ",Table13[[#This Row],[KeyStage]]," ",Table13[[#This Row],[Subject]]," (",Table13[[#This Row],[YearGroup]],")")) -> Key Stage 3 Science (Special) | F5: =IF(ISNUMBER(Table13[[#This Row],[YearGroup]]),_xlfn.CONCAT("Y", D5, ".", SUBSTITUTE(A5," ","")), _xlfn.CONCAT("KS",Table13[[#This Row],[KeyStage]],".",Table13[[#This Row],[Subject]],".",Table13[[#This Row],[YearGroup]])) -> KS3.Science.Special
A6: Biology | B6: Bi | C6: 4 | D6: 9 | E6: =IF(ISNUMBER(Table13[[#This Row],[YearGroup]]),_xlfn.CONCAT("Year ",Table13[[#This Row],[YearGroup]]," ",Table13[[#This Row],[Subject]]),_xlfn.CONCAT("Key Stage ",Table13[[#This Row],[KeyStage]]," ",Table13[[#This Row],[Subject]]," (",Table13[[#This Row],[YearGroup]],")")) -> Year 9 Biology | F6: =IF(ISNUMBER(Table13[[#This Row],[YearGroup]]),_xlfn.CONCAT("Y", D6, ".", SUBSTITUTE(A6," ","")), _xlfn.CONCAT("KS",Table13[[#This Row],[KeyStage]],".",Table13[[#This Row],[Subject]],".",Table13[[#This Row],[YearGroup]])) -> Y9.Biology
A7: Biology | B7: Bi | C7: 4 | D7: 10 | E7: =IF(ISNUMBER(Table13[[#This Row],[YearGroup]]),_xlfn.CONCAT("Year ",Table13[[#This Row],[YearGroup]]," ",Table13[[#This Row],[Subject]]),_xlfn.CONCAT("Key Stage ",Table13[[#This Row],[KeyStage]]," ",Table13[[#This Row],[Subject]]," (",Table13[[#This Row],[YearGroup]],")")) -> Year 10 Biology | F7: =IF(ISNUMBER(Table13[[#This Row],[YearGroup]]),_xlfn.CONCAT("Y", D7, ".", SUBSTITUTE(A7," ","")), _xlfn.CONCAT("KS",Table13[[#This Row],[KeyStage]],".",Table13[[#This Row],[Subject]],".",Table13[[#This Row],[YearGroup]])) -> Y10.Biology
A8: Biology | B8: Bi | C8: 4 | D8: 11 | E8: =IF(ISNUMBER(Table13[[#This Row],[YearGroup]]),_xlfn.CONCAT("Year ",Table13[[#This Row],[YearGroup]]," ",Table13[[#This Row],[Subject]]),_xlfn.CONCAT("Key Stage ",Table13[[#This Row],[KeyStage]]," ",Table13[[#This Row],[Subject]]," (",Table13[[#This Row],[YearGroup]],")")) -> Year 11 Biology | F8: =IF(ISNUMBER(Table13[[#This Row],[YearGroup]]),_xlfn.CONCAT("Y", D8, ".", SUBSTITUTE(A8," ","")), _xlfn.CONCAT("KS",Table13[[#This Row],[KeyStage]],".",Table13[[#This Row],[Subject]],".",Table13[[#This Row],[YearGroup]])) -> Y11.Biology
A9: Biology | B9: Bi | C9: 4 | D9: Core | E9: =IF(ISNUMBER(Table13[[#This Row],[YearGroup]]),_xlfn.CONCAT("Year ",Table13[[#This Row],[YearGroup]]," ",Table13[[#This Row],[Subject]]),_xlfn.CONCAT("Key Stage ",Table13[[#This Row],[KeyStage]]," ",Table13[[#This Row],[Subject]]," (",Table13[[#This Row],[YearGroup]],")")) -> Key Stage 4 Biology (Core) | F9: =IF(ISNUMBER(Table13[[#This Row],[YearGroup]]),_xlfn.CONCAT("Y", D9, ".", SUBSTITUTE(A9," ","")), _xlfn.CONCAT("KS",Table13[[#This Row],[KeyStage]],".",Table13[[#This Row],[Subject]],".",Table13[[#This Row],[YearGroup]])) -> KS4.Biology.Core
A10: Biology | B10: Bi | C10: 4 | D10: Special | E10: =IF(ISNUMBER(Table13[[#This Row],[YearGroup]]),_xlfn.CONCAT("Year ",Table13[[#This Row],[YearGroup]]," ",Table13[[#This Row],[Subject]]),_xlfn.CONCAT("Key Stage ",Table13[[#This Row],[KeyStage]]," ",Table13[[#This Row],[Subject]]," (",Table13[[#This Row],[YearGroup]],")")) -> Key Stage 4 Biology (Special) | F10: =IF(ISNUMBER(Table13[[#This Row],[YearGroup]]),_xlfn.CONCAT("Y", D10, ".", SUBSTITUTE(A10," ","")), _xlfn.CONCAT("KS",Table13[[#This Row],[KeyStage]],".",Table13[[#This Row],[Subject]],".",Table13[[#This Row],[YearGroup]])) -> KS4.Biology.Special
A11: Chemistry | B11: Ch | C11: 4 | D11: 9 | E11: =IF(ISNUMBER(Table13[[#This Row],[YearGroup]]),_xlfn.CONCAT("Year ",Table13[[#This Row],[YearGroup]]," ",Table13[[#This Row],[Subject]]),_xlfn.CONCAT("Key Stage ",Table13[[#This Row],[KeyStage]]," ",Table13[[#This Row],[Subject]]," (",Table13[[#This Row],[YearGroup]],")")) -> Year 9 Chemistry | F11: =IF(ISNUMBER(Table13[[#This Row],[YearGroup]]),_xlfn.CONCAT("Y", D11, ".", SUBSTITUTE(A11," ","")), _xlfn.CONCAT("KS",Table13[[#This Row],[KeyStage]],".",Table13[[#This Row],[Subject]],".",Table13[[#This Row],[YearGroup]])) -> Y9.Chemistry
A12: Chemistry | B12: Ch | C12: 4 | D12: 10 | E12: =IF(ISNUMBER(Table13[[#This Row],[YearGroup]]),_xlfn.CONCAT("Year ",Table13[[#This Row],[YearGroup]]," ",Table13[[#This Row],[Subject]]),_xlfn.CONCAT("Key Stage ",Table13[[#This Row],[KeyStage]]," ",Table13[[#This Row],[Subject]]," (",Table13[[#This Row],[YearGroup]],")")) -> Year 10 Chemistry | F12: =IF(ISNUMBER(Table13[[#This Row],[YearGroup]]),_xlfn.CONCAT("Y", D12, ".", SUBSTITUTE(A12," ","")), _xlfn.CONCAT("KS",Table13[[#This Row],[KeyStage]],".",Table13[[#This Row],[Subject]],".",Table13[[#This Row],[YearGroup]])) -> Y10.Chemistry
A13: Chemistry | B13: Ch | C13: 4 | D13: 11 | E13: =IF(ISNUMBER(Table13[[#This Row],[YearGroup]]),_xlfn.CONCAT("Year ",Table13[[#This Row],[YearGroup]]," ",Table13[[#This Row],[Subject]]),_xlfn.CONCAT("Key Stage ",Table13[[#This Row],[KeyStage]]," ",Table13[[#This Row],[Subject]]," (",Table13[[#This Row],[YearGroup]],")")) -> Year 11 Chemistry | F13: =IF(ISNUMBER(Table13[[#This Row],[YearGroup]]),_xlfn.CONCAT("Y", D13, ".", SUBSTITUTE(A13," ","")), _xlfn.CONCAT("KS",Table13[[#This Row],[KeyStage]],".",Table13[[#This Row],[Subject]],".",Table13[[#This Row],[YearGroup]])) -> Y11.Chemistry
A14: Chemistry | B14: Ch | C14: 4 | D14: Core | E14: =IF(ISNUMBER(Table13[[#This Row],[YearGroup]]),_xlfn.CONCAT("Year ",Table13[[#This Row],[YearGroup]]," ",Table13[[#This Row],[Subject]]),_xlfn.CONCAT("Key Stage ",Table13[[#This Row],[KeyStage]]," ",Table13[[#This Row],[Subject]]," (",Table13[[#This Row],[YearGroup]],")")) -> Key Stage 4 Chemistry (Core) | F14: =IF(ISNUMBER(Table13[[#This Row],[YearGroup]]),_xlfn.CONCAT("Y", D14, ".", SUBSTITUTE(A14," ","")), _xlfn.CONCAT("KS",Table13[[#This Row],[KeyStage]],".",Table13[[#This Row],[Subject]],".",Table13[[#This Row],[YearGroup]])) -> KS4.Chemistry.Core
A15: Chemistry | B15: Ch | C15: 4 | D15: Special | E15: =IF(ISNUMBER(Table13[[#This Row],[YearGroup]]),_xlfn.CONCAT("Year ",Table13[[#This Row],[YearGroup]]," ",Table13[[#This Row],[Subject]]),_xlfn.CONCAT("Key Stage ",Table13[[#This Row],[KeyStage]]," ",Table13[[#This Row],[Subject]]," (",Table13[[#This Row],[YearGroup]],")")) -> Key Stage 4 Chemistry (Special) | F15: =IF(ISNUMBER(Table13[[#This Row],[YearGroup]]),_xlfn.CONCAT("Y", D15, ".", SUBSTITUTE(A15," ","")), _xlfn.CONCAT("KS",Table13[[#This Row],[KeyStage]],".",Table13[[#This Row],[Subject]],".",Table13[[#This Row],[YearGroup]])) -> KS4.Chemistry.Special
A16: Physics | B16: Ph | C16: 4 | D16: 9 | E16: =IF(ISNUMBER(Table13[[#This Row],[YearGroup]]),_xlfn.CONCAT("Year ",Table13[[#This Row],[YearGroup]]," ",Table13[[#This Row],[Subject]]),_xlfn.CONCAT("Key Stage ",Table13[[#This Row],[KeyStage]]," ",Table13[[#This Row],[Subject]]," (",Table13[[#This Row],[YearGroup]],")")) -> Year 9 Physics | F16: =IF(ISNUMBER(Table13[[#This Row],[YearGroup]]),_xlfn.CONCAT("Y", D16, ".", SUBSTITUTE(A16," ","")), _xlfn.CONCAT("KS",Table13[[#This Row],[KeyStage]],".",Table13[[#This Row],[Subject]],".",Table13[[#This Row],[YearGroup]])) -> Y9.Physics
A17: Physics | B17: Ph | C17: 4 | D17: 10 | E17: =IF(ISNUMBER(Table13[[#This Row],[YearGroup]]),_xlfn.CONCAT("Year ",Table13[[#This Row],[YearGroup]]," ",Table13[[#This Row],[Subject]]),_xlfn.CONCAT("Key Stage ",Table13[[#This Row],[KeyStage]]," ",Table13[[#This Row],[Subject]]," (",Table13[[#This Row],[YearGroup]],")")) -> Year 10 Physics | F17: =IF(ISNUMBER(Table13[[#This Row],[YearGroup]]),_xlfn.CONCAT("Y", D17, ".", SUBSTITUTE(A17," ","")), _xlfn.CONCAT("KS",Table13[[#This Row],[KeyStage]],".",Table13[[#This Row],[Subject]],".",Table13[[#This Row],[YearGroup]])) -> Y10.Physics
A18: Physics | B18: Ph | C18: 4 | D18: 11 | E18: =IF(ISNUMBER(Table13[[#This Row],[YearGroup]]),_xlfn.CONCAT("Year ",Table13[[#This Row],[YearGroup]]," ",Table13[[#This Row],[Subject]]),_xlfn.CONCAT("Key Stage ",Table13[[#This Row],[KeyStage]]," ",Table13[[#This Row],[Subject]]," (",Table13[[#This Row],[YearGroup]],")")) -> Year 11 Physics | F18: =IF(ISNUMBER(Table13[[#This Row],[YearGroup]]),_xlfn.CONCAT("Y", D18, ".", SUBSTITUTE(A18," ","")), _xlfn.CONCAT("KS",Table13[[#This Row],[KeyStage]],".",Table13[[#This Row],[Subject]],".",Table13[[#This Row],[YearGroup]])) -> Y11.Physics
A19: Physics | B19: Ph | C19: 4 | D19: Core | E19: =IF(ISNUMBER(Table13[[#This Row],[YearGroup]]),_xlfn.CONCAT("Year ",Table13[[#This Row],[YearGroup]]," ",Table13[[#This Row],[Subject]]),_xlfn.CONCAT("Key Stage ",Table13[[#This Row],[KeyStage]]," ",Table13[[#This Row],[Subject]]," (",Table13[[#This Row],[YearGroup]],")")) -> Key Stage 4 Physics (Core) | F19: =IF(ISNUMBER(Table13[[#This Row],[YearGroup]]),_xlfn.CONCAT("Y", D19, ".", SUBSTITUTE(A19," ","")), _xlfn.CONCAT("KS",Table13[[#This Row],[KeyStage]],".",Table13[[#This Row],[Subject]],".",Table13[[#This Row],[YearGroup]])) -> KS4.Physics.Core
A20: Physics | B20: Ph | C20: 4 | D20: Special | E20: =IF(ISNUMBER(Table13[[#This Row],[YearGroup]]),_xlfn.CONCAT("Year ",Table13[[#This Row],[YearGroup]]," ",Table13[[#This Row],[Subject]]),_xlfn.CONCAT("Key Stage ",Table13[[#This Row],[KeyStage]]," ",Table13[[#This Row],[Subject]]," (",Table13[[#This Row],[YearGroup]],")")) -> Key Stage 4 Physics (Special) | F20: =IF(ISNUMBER(Table13[[#This Row],[YearGroup]]),_xlfn.CONCAT("Y", D20, ".", SUBSTITUTE(A20," ","")), _xlfn.CONCAT("KS",Table13[[#This Row],[KeyStage]],".",Table13[[#This Row],[Subject]],".",Table13[[#This Row],[YearGroup]])) -> KS4.Physics.Special
A21: Biology | B21: Bi | C21: 5 | D21: 12 | E21: =IF(ISNUMBER(Table13[[#This Row],[YearGroup]]),_xlfn.CONCAT("Year ",Table13[[#This Row],[YearGroup]]," ",Table13[[#This Row],[Subject]]),_xlfn.CONCAT("Key Stage ",Table13[[#This Row],[KeyStage]]," ",Table13[[#This Row],[Subject]]," (",Table13[[#This Row],[YearGroup]],")")) -> Year 12 Biology | F21: =IF(ISNUMBER(Table13[[#This Row],[YearGroup]]),_xlfn.CONCAT("Y", D21, ".", SUBSTITUTE(A21," ","")), _xlfn.CONCAT("KS",Table13[[#This Row],[KeyStage]],".",Table13[[#This Row],[Subject]],".",Table13[[#This Row],[YearGroup]])) -> Y12.Biology
A22: Biology | B22: Bi | C22: 5 | D22: 13 | E22: =IF(ISNUMBER(Table13[[#This Row],[YearGroup]]),_xlfn.CONCAT("Year ",Table13[[#This Row],[YearGroup]]," ",Table13[[#This Row],[Subject]]),_xlfn.CONCAT("Key Stage ",Table13[[#This Row],[KeyStage]]," ",Table13[[#This Row],[Subject]]," (",Table13[[#This Row],[YearGroup]],")")) -> Year 13 Biology | F22: =IF(ISNUMBER(Table13[[#This Row],[YearGroup]]),_xlfn.CONCAT("Y", D22, ".", SUBSTITUTE(A22," ","")), _xlfn.CONCAT("KS",Table13[[#This Row],[KeyStage]],".",Table13[[#This Row],[Subject]],".",Table13[[#This Row],[YearGroup]])) -> Y13.Biology
A23: Biology | B23: Bi | C23: 5 | D23: Core | E23: =IF(ISNUMBER(Table13[[#This Row],[YearGroup]]),_xlfn.CONCAT("Year ",Table13[[#This Row],[YearGroup]]," ",Table13[[#This Row],[Subject]]),_xlfn.CONCAT("Key Stage ",Table13[[#This Row],[KeyStage]]," ",Table13[[#This Row],[Subject]]," (",Table13[[#This Row],[YearGroup]],")")) -> Key Stage 5 Biology (Core) | F23: =IF(ISNUMBER(Table13[[#This Row],[YearGroup]]),_xlfn.CONCAT("Y", D23, ".", SUBSTITUTE(A23," ","")), _xlfn.CONCAT("KS",Table13[[#This Row],[KeyStage]],".",Table13[[#This Row],[Subject]],".",Table13[[#This Row],[YearGroup]])) -> KS5.Biology.Core
A24: Biology | B24: Bi | C24: 5 | D24: Special | E24: =IF(ISNUMBER(Table13[[#This Row],[YearGroup]]),_xlfn.CONCAT("Year ",Table13[[#This Row],[YearGroup]]," ",Table13[[#This Row],[Subject]]),_xlfn.CONCAT("Key Stage ",Table13[[#This Row],[KeyStage]]," ",Table13[[#This Row],[Subject]]," (",Table13[[#This Row],[YearGroup]],")")) -> Key Stage 5 Biology (Special) | F24: =IF(ISNUMBER(Table13[[#This Row],[YearGroup]]),_xlfn.CONCAT("Y", D24, ".", SUBSTITUTE(A24," ","")), _xlfn.CONCAT("KS",Table13[[#This Row],[KeyStage]],".",Table13[[#This Row],[Subject]],".",Table13[[#This Row],[YearGroup]])) -> KS5.Biology.Special
A25: Chemistry | B25: Ch | C25: 5 | D25: 12 | E25: =IF(ISNUMBER(Table13[[#This Row],[YearGroup]]),_xlfn.CONCAT("Year ",Table13[[#This Row],[YearGroup]]," ",Table13[[#This Row],[Subject]]),_xlfn.CONCAT("Key Stage ",Table13[[#This Row],[KeyStage]]," ",Table13[[#This Row],[Subject]]," (",Table13[[#This Row],[YearGroup]],")")) -> Year 12 Chemistry | F25: =IF(ISNUMBER(Table13[[#This Row],[YearGroup]]),_xlfn.CONCAT("Y", D25, ".", SUBSTITUTE(A25," ","")), _xlfn.CONCAT("KS",Table13[[#This Row],[KeyStage]],".",Table13[[#This Row],[Subject]],".",Table13[[#This Row],[YearGroup]])) -> Y12.Chemistry
A26: Chemistry | B26: Ch | C26: 5 | D26: 13 | E26: =IF(ISNUMBER(Table13[[#This Row],[YearGroup]]),_xlfn.CONCAT("Year ",Table13[[#This Row],[YearGroup]]," ",Table13[[#This Row],[Subject]]),_xlfn.CONCAT("Key Stage ",Table13[[#This Row],[KeyStage]]," ",Table13[[#This Row],[Subject]]," (",Table13[[#This Row],[YearGroup]],")")) -> Year 13 Chemistry | F26: =IF(ISNUMBER(Table13[[#This Row],[YearGroup]]),_xlfn.CONCAT("Y", D26, ".", SUBSTITUTE(A26," ","")), _xlfn.CONCAT("KS",Table13[[#This Row],[KeyStage]],".",Table13[[#This Row],[Subject]],".",Table13[[#This Row],[YearGroup]])) -> Y13.Chemistry
A27: Chemistry | B27: Ch | C27: 5 | D27: Core | E27: =IF(ISNUMBER(Table13[[#This Row],[YearGroup]]),_xlfn.CONCAT("Year ",Table13[[#This Row],[YearGroup]]," ",Table13[[#This Row],[Subject]]),_xlfn.CONCAT("Key Stage ",Table13[[#This Row],[KeyStage]]," ",Table13[[#This Row],[Subject]]," (",Table13[[#This Row],[YearGroup]],")")) -> Key Stage 5 Chemistry (Core) | F27: =IF(ISNUMBER(Table13[[#This Row],[YearGroup]]),_xlfn.CONCAT("Y", D27, ".", SUBSTITUTE(A27," ","")), _xlfn.CONCAT("KS",Table13[[#This Row],[KeyStage]],".",Table13[[#This Row],[Subject]],".",Table13[[#This Row],[YearGroup]])) -> KS5.Chemistry.Core
A28: Chemistry | B28: Ch | C28: 5 | D28: Special | E28: =IF(ISNUMBER(Table13[[#This Row],[YearGroup]]),_xlfn.CONCAT("Year ",Table13[[#This Row],[YearGroup]]," ",Table13[[#This Row],[Subject]]),_xlfn.CONCAT("Key Stage ",Table13[[#This Row],[KeyStage]]," ",Table13[[#This Row],[Subject]]," (",Table13[[#This Row],[YearGroup]],")")) -> Key Stage 5 Chemistry (Special) | F28: =IF(ISNUMBER(Table13[[#This Row],[YearGroup]]),_xlfn.CONCAT("Y", D28, ".", SUBSTITUTE(A28," ","")), _xlfn.CONCAT("KS",Table13[[#This Row],[KeyStage]],".",Table13[[#This Row],[Subject]],".",Table13[[#This Row],[YearGroup]])) -> KS5.Chemistry.Special
A29: Physics | B29: Ph | C29: 5 | D29: 12 | E29: =IF(ISNUMBER(Table13[[#This Row],[YearGroup]]),_xlfn.CONCAT("Year ",Table13[[#This Row],[YearGroup]]," ",Table13[[#This Row],[Subject]]),_xlfn.CONCAT("Key Stage ",Table13[[#This Row],[KeyStage]]," ",Table13[[#This Row],[Subject]]," (",Table13[[#This Row],[YearGroup]],")")) -> Year 12 Physics | F29: =IF(ISNUMBER(Table13[[#This Row],[YearGroup]]),_xlfn.CONCAT("Y", D29, ".", SUBSTITUTE(A29," ","")), _xlfn.CONCAT("KS",Table13[[#This Row],[KeyStage]],".",Table13[[#This Row],[Subject]],".",Table13[[#This Row],[YearGroup]])) -> Y12.Physics
A30: Physics | B30: Ph | C30: 5 | D30: 13 | E30: =IF(ISNUMBER(Table13[[#This Row],[YearGroup]]),_xlfn.CONCAT("Year ",Table13[[#This Row],[YearGroup]]," ",Table13[[#This Row],[Subject]]),_xlfn.CONCAT("Key Stage ",Table13[[#This Row],[KeyStage]]," ",Table13[[#This Row],[Subject]]," (",Table13[[#This Row],[YearGroup]],")")) -> Year 13 Physics | F30: =IF(ISNUMBER(Table13[[#This Row],[YearGroup]]),_xlfn.CONCAT("Y", D30, ".", SUBSTITUTE(A30," ","")), _xlfn.CONCAT("KS",Table13[[#This Row],[KeyStage]],".",Table13[[#This Row],[Subject]],".",Table13[[#This Row],[YearGroup]])) -> Y13.Physics
A31: Physics | B31: Ph | C31: 5 | D31: Core | E31: =IF(ISNUMBER(Table13[[#This Row],[YearGroup]]),_xlfn.CONCAT("Year ",Table13[[#This Row],[YearGroup]]," ",Table13[[#This Row],[Subject]]),_xlfn.CONCAT("Key Stage ",Table13[[#This Row],[KeyStage]]," ",Table13[[#This Row],[Subject]]," (",Table13[[#This Row],[YearGroup]],")")) -> Key Stage 5 Physics (Core) | F31: =IF(ISNUMBER(Table13[[#This Row],[YearGroup]]),_xlfn.CONCAT("Y", D31, ".", SUBSTITUTE(A31," ","")), _xlfn.CONCAT("KS",Table13[[#This Row],[KeyStage]],".",Table13[[#This Row],[Subject]],".",Table13[[#This Row],[YearGroup]])) -> KS5.Physics.Core
A32: Physics | B32: Ph | C32: 5 | D32: Special | E32: =IF(ISNUMBER(Table13[[#This Row],[YearGroup]]),_xlfn.CONCAT("Year ",Table13[[#This Row],[YearGroup]]," ",Table13[[#This Row],[Subject]]),_xlfn.CONCAT("Key Stage ",Table13[[#This Row],[KeyStage]]," ",Table13[[#This Row],[Subject]]," (",Table13[[#This Row],[YearGroup]],")")) -> Key Stage 5 Physics (Special) | F32: =IF(ISNUMBER(Table13[[#This Row],[YearGroup]]),_xlfn.CONCAT("Y", D32, ".", SUBSTITUTE(A32," ","")), _xlfn.CONCAT("KS",Table13[[#This Row],[KeyStage]],".",Table13[[#This Row],[Subject]],".",Table13[[#This Row],[YearGroup]])) -> KS5.Physics.Special
A33: Form Time | B33: Rg | C33: 3 | D33: 7 | E33: =IF(ISNUMBER(Table13[[#This Row],[YearGroup]]),_xlfn.CONCAT("Year ",Table13[[#This Row],[YearGroup]]," ",Table13[[#This Row],[Subject]]),_xlfn.CONCAT("Key Stage ",Table13[[#This Row],[KeyStage]]," ",Table13[[#This Row],[Subject]]," (",Table13[[#This Row],[YearGroup]],")")) -> Year 7 Form Time | F33: =IF(ISNUMBER(Table13[[#This Row],[YearGroup]]),_xlfn.CONCAT("Y", D33, ".", SUBSTITUTE(A33," ","")), _xlfn.CONCAT("KS",Table13[[#This Row],[KeyStage]],".",Table13[[#This Row],[Subject]],".",Table13[[#This Row],[YearGroup]])) -> Y7.FormTime
A34: Form Time | B34: Rg | C34: 3 | D34: 8 | E34: =IF(ISNUMBER(Table13[[#This Row],[YearGroup]]),_xlfn.CONCAT("Year ",Table13[[#This Row],[YearGroup]]," ",Table13[[#This Row],[Subject]]),_xlfn.CONCAT("Key Stage ",Table13[[#This Row],[KeyStage]]," ",Table13[[#This Row],[Subject]]," (",Table13[[#This Row],[YearGroup]],")")) -> Year 8 Form Time | F34: =IF(ISNUMBER(Table13[[#This Row],[YearGroup]]),_xlfn.CONCAT("Y", D34, ".", SUBSTITUTE(A34," ","")), _xlfn.CONCAT("KS",Table13[[#This Row],[KeyStage]],".",Table13[[#This Row],[Subject]],".",Table13[[#This Row],[YearGroup]])) -> Y8.FormTime
A35: Form Time | B35: Rg | C35: 3 | D35: 9 | E35: =IF(ISNUMBER(Table13[[#This Row],[YearGroup]]),_xlfn.CONCAT("Year ",Table13[[#This Row],[YearGroup]]," ",Table13[[#This Row],[Subject]]),_xlfn.CONCAT("Key Stage ",Table13[[#This Row],[KeyStage]]," ",Table13[[#This Row],[Subject]]," (",Table13[[#This Row],[YearGroup]],")")) -> Year 9 Form Time | F35: =IF(ISNUMBER(Table13[[#This Row],[YearGroup]]),_xlfn.CONCAT("Y", D35, ".", SUBSTITUTE(A35," ","")), _xlfn.CONCAT("KS",Table13[[#This Row],[KeyStage]],".",Table13[[#This Row],[Subject]],".",Table13[[#This Row],[YearGroup]])) -> Y9.FormTime
A36: Form Time | B36: Rg | C36: 4 | D36: 10 | E36: =IF(ISNUMBER(Table13[[#This Row],[YearGroup]]),_xlfn.CONCAT("Year ",Table13[[#This Row],[YearGroup]]," ",Table13[[#This Row],[Subject]]),_xlfn.CONCAT("Key Stage ",Table13[[#This Row],[KeyStage]]," ",Table13[[#This Row],[Subject]]," (",Table13[[#This Row],[YearGroup]],")")) -> Year 10 Form Time | F36: =IF(ISNUMBER(Table13[[#This Row],[YearGroup]]),_xlfn.CONCAT("Y", D36, ".", SUBSTITUTE(A36," ","")), _xlfn.CONCAT("KS",Table13[[#This Row],[KeyStage]],".",Table13[[#This Row],[Subject]],".",Table13[[#This Row],[YearGroup]])) -> Y10.FormTime
A37: Form Time | B37: Rg | C37: 4 | D37: 11 | E37: =IF(ISNUMBER(Table13[[#This Row],[YearGroup]]),_xlfn.CONCAT("Year ",Table13[[#This Row],[YearGroup]]," ",Table13[[#This Row],[Subject]]),_xlfn.CONCAT("Key Stage ",Table13[[#This Row],[KeyStage]]," ",Table13[[#This Row],[Subject]]," (",Table13[[#This Row],[YearGroup]],")")) -> Year 11 Form Time | F37: =IF(ISNUMBER(Table13[[#This Row],[YearGroup]]),_xlfn.CONCAT("Y", D37, ".", SUBSTITUTE(A37," ","")), _xlfn.CONCAT("KS",Table13[[#This Row],[KeyStage]],".",Table13[[#This Row],[Subject]],".",Table13[[#This Row],[YearGroup]])) -> Y11.FormTime
A38: Form Time | B38: Rg | C38: 5 | D38: 12 | E38: =IF(ISNUMBER(Table13[[#This Row],[YearGroup]]),_xlfn.CONCAT("Year ",Table13[[#This Row],[YearGroup]]," ",Table13[[#This Row],[Subject]]),_xlfn.CONCAT("Key Stage ",Table13[[#This Row],[KeyStage]]," ",Table13[[#This Row],[Subject]]," (",Table13[[#This Row],[YearGroup]],")")) -> Year 12 Form Time | F38: =IF(ISNUMBER(Table13[[#This Row],[YearGroup]]),_xlfn.CONCAT("Y", D38, ".", SUBSTITUTE(A38," ","")), _xlfn.CONCAT("KS",Table13[[#This Row],[KeyStage]],".",Table13[[#This Row],[Subject]],".",Table13[[#This Row],[YearGroup]])) -> Y12.FormTime
A39: Form Time | B39: Rg | C39: 5 | D39: 13 | E39: =IF(ISNUMBER(Table13[[#This Row],[YearGroup]]),_xlfn.CONCAT("Year ",Table13[[#This Row],[YearGroup]]," ",Table13[[#This Row],[Subject]]),_xlfn.CONCAT("Key Stage ",Table13[[#This Row],[KeyStage]]," ",Table13[[#This Row],[Subject]]," (",Table13[[#This Row],[YearGroup]],")")) -> Year 13 Form Time | F39: =IF(ISNUMBER(Table13[[#This Row],[YearGroup]]),_xlfn.CONCAT("Y", D39, ".", SUBSTITUTE(A39," ","")), _xlfn.CONCAT("KS",Table13[[#This Row],[KeyStage]],".",Table13[[#This Row],[Subject]],".",Table13[[#This Row],[YearGroup]])) -> Y13.FormTime

Sheet topics
A1: SyllabusSubject | B1: SyllabusKeyStage | C1: SyllabusYear | D1: SyllabusStageID | E1: SyllabusYearID | F1: TopicStage | G1: TopicSubjectCode | H1: Topic | I1: TopicID | J1: TopicTitle | K1: TotalNumberOfLessonsForTopic | L1: TopicType | M1: TopicAssessmentType
A2: Science | B2: 3 | C2: 7 | D2: =_xlfn.CONCAT("KS",TopicLookup[[#This Row],[SyllabusKeyStage]],".",TopicLookup[[#This Row],[SyllabusSubject]]) -> KS3.Science | E2: =IF(ISNUMBER(TopicLookup[[#This Row],[SyllabusYear]]),_xlfn.CONCAT("Y",TopicLookup[[#This Row],[SyllabusYear]],".",TopicLookup[[#This Row],[SyllabusSubject]]),_xlfn.CONCAT("KS",TopicLookup[[#This Row],[SyllabusKeyStage]],".",TopicLookup[[#This Row],[SyllabusSubject]],".",TopicLookup[[#This Row],[SyllabusYear]])) -> Y7.Science | F2: I | G2: B | H2: 1 | I2: =IF(OR(TopicLookup[[#This Row],[SyllabusYear]]=7,TopicLookup[[#This Row],[SyllabusYear]]=8),_xlfn.CONCAT(TopicLookup[[#This Row],[SyllabusYear]],TopicLookup[[#This Row],[TopicSubjectCode]],TopicLookup[[#This Row],[Topic]]),IF(TopicLookup[[#This Row],[TopicStage]]="G",_xlfn.CONCAT(TopicLookup[[#This Row],[TopicSubjectCode]],TopicLookup[[#This Row],[Topic]]),IF(TopicLookup[[#This Row],[TopicStage]]="A",_xlfn.CONCAT(TopicLookup[[#This Row],[TopicStage]],TopicLookup[[#This Row],[TopicSubjectCode]],".",TopicLookup[[#This Row],[Topic]]),_xlfn.CONCAT(TopicLookup[[#This Row],[TopicStage]]&"."&TopicLookup[[#This Row],[TopicSubjectCode]]&"."&TopicLookup[[#This Row],[Topic]])))) -> 7B1 | J2: Life Processes | K2: {=SUMPRODUCT((LessonLookup[TopicID]=TopicLookup[[#This Row],[TopicID]])*(LessonLookup[SuggestedNumberOfPeriodsForLesson]))} -> 11 | L2: Standard | M2: Test
A3: Science | B3: 3 | C3: 7 | D3: =_xlfn.CONCAT("KS",TopicLookup[[#This Row],[SyllabusKeyStage]],".",TopicLookup[[#This Row],[SyllabusSubject]]) -> KS3.Science | E3: =IF(ISNUMBER(TopicLookup[[#This Row],[SyllabusYear]]),_xlfn.CONCAT("Y",TopicLookup[[#This Row],[SyllabusYear]],".",TopicLookup[[#This Row],[SyllabusSubject]]),_xlfn.CONCAT("KS",TopicLookup[[#This Row],[SyllabusKeyStage]],".",TopicLookup[[#This Row],[SyllabusSubject]],".",TopicLookup[[#This Row],[SyllabusYear]])) -> Y7.Science | F3: I | G3: B | H3: 2 | I3: =IF(OR(TopicLookup[[#This Row],[SyllabusYear]]=7,TopicLookup[[#This Row],[SyllabusYear]]=8),_xlfn.CONCAT(TopicLookup[[#This Row],[SyllabusYear]],TopicLookup[[#This Row],[TopicSubjectCode]],TopicLookup[[#This Row],[Topic]]),IF(TopicLookup[[#This Row],[TopicStage]]="G",_xlfn.CONCAT(TopicLookup[[#This Row],[TopicSubjectCode]],TopicLookup[[#This Row],[Topic]]),IF(TopicLookup[[#This Row],[TopicStage]]="A",_xlfn.CONCAT(TopicLookup[[#This Row],[TopicStage]],TopicLookup[[#This Row],[TopicSubjectCode]],".",TopicLookup[[#This Row],[Topic]]),_xlfn.CONCAT(TopicLookup[[#This Row],[TopicStage]]&"."&TopicLookup[[#This Row],[TopicSubjectCode]]&"."&TopicLookup[[#This Row],[Topic]])))) -> 7B2 | J3: Respiration And Circulation | K3: {=SUMPRODUCT((LessonLookup[TopicID]=TopicLookup[[#This Row],[TopicID]])*(LessonLookup[SuggestedNumberOfPeriodsForLesson]))} -> 11 | L3: Standard | M3: Test
A4: Science | B4: 3 | C4: 7 | D4: =_xlfn.CONCAT("KS",TopicLookup[[#This Row],[SyllabusKeyStage]],".",TopicLookup[[#This Row],[SyllabusSubject]]) -> KS3.Science | E4: =IF(ISNUMBER(TopicLookup[[#This Row],[SyllabusYear]]),_xlfn.CONCAT("Y",TopicLookup[[#This Row],[SyllabusYear]],".",TopicLookup[[#This Row],[SyllabusSubject]]),_xlfn.CONCAT("KS",TopicLookup[[#This Row],[SyllabusKeyStage]],".",TopicLookup[[#This Row],[SyllabusSubject]],".",TopicLookup[[#This Row],[SyllabusYear]])) -> Y7.Science | F4: I | G4: B | H4: 3 | I4: =IF(OR(TopicLookup[[#This Row],[SyllabusYear]]=7,TopicLookup[[#This Row],[SyllabusYear]]=8),_xlfn.CONCAT(TopicLookup[[#This Row],[SyllabusYear]],TopicLookup[[#This Row],[TopicSubjectCode]],TopicLookup[[#This Row],[Topic]]),IF(TopicLookup[[#This Row],[TopicStage]]="G",_xlfn.CONCAT(TopicLookup[[#This Row],[TopicSubjectCode]],TopicLookup[[#This Row],[Topic]]),IF(TopicLookup[[#This Row],[TopicStage]]="A",_xlfn.CONCAT(TopicLookup[[#This Row],[TopicStage]],TopicLookup[[#This Row],[TopicSubjectCode]],".",TopicLookup[[#This Row],[Topic]]),_xlfn.CONCAT(TopicLookup[[#This Row],[TopicStage]]&"."&TopicLookup[[#This Row],[TopicSubjectCode]]&"."&TopicLookup[[#This Row],[Topic]])))) -> 7B3 | J4: Variation | K4: {=SUMPRODUCT((LessonLookup[TopicID]=TopicLookup[[#This Row],[TopicID]])*(LessonLookup[SuggestedNumberOfPeriodsForLesson]))} -> 11 | L4: Standard | M4: Test
A5: Science | B5: 3 | C5: 7 | D5: =_xlfn.CONCAT("KS",TopicLookup[[#This Row],[SyllabusKeyStage]],".",TopicLookup[[#This Row],[SyllabusSubject]]) -> KS3.Science | E5: =IF(ISNUMBER(TopicLookup[[#This Row],[SyllabusYear]]),_xlfn.CONCAT("Y",TopicLookup[[#This Row],[SyllabusYear]],".",TopicLookup[[#This Row],[SyllabusSubject]]),_xlfn.CONCAT("KS",TopicLookup[[#This Row],[SyllabusKeyStage]],".",TopicLookup[[#This Row],[SyllabusSubject]],".",TopicLookup[[#This Row],[SyllabusYear]])) -> Y7.Science | F5: I | G5: B | H5: 4 | I5: =IF(OR(TopicLookup[[#This Row],[SyllabusYear]]=7,TopicLookup[[#This Row],[SyllabusYear]]=8),_xlfn.CONCAT(TopicLookup[[#This Row],[SyllabusYear]],TopicLookup[[#This Row],[TopicSubjectCode]],TopicLookup[[#This Row],[Topic]]),IF(TopicLookup[[#This Row],[TopicStage]]="G",_xlfn.CONCAT(TopicLookup[[#This Row],[TopicSubjectCode]],TopicLookup[[#This Row],[Topic]]),IF(TopicLookup[[#This Row],[TopicStage]]="A",_xlfn.CONCAT(TopicLookup[[#This Row],[TopicStage]],TopicLookup[[#This Row],[TopicSubjectCode]],".",TopicLookup[[#This Row],[Topic]]),_xlfn.CONCAT(TopicLookup[[#This Row],[TopicStage]]&"."&TopicLookup[[#This Row],[TopicSubjectCode]]&"."&TopicLookup[[#This Row],[Topic]])))) -> 7B4 | J5: Food And Digestion | K5: {=SUMPRODUCT((LessonLookup[TopicID]=TopicLookup[[#This Row],[TopicID]])*(LessonLookup[SuggestedNumberOfPeriodsForLesson]))} -> 12 | L5: Standard | M5: Test
A6: Science | B6: 3 | C6: 7 | D6: =_xlfn.CONCAT("KS",TopicLookup[[#This Row],[SyllabusKeyStage]],".",TopicLookup[[#This Row],[SyllabusSubject]]) -> KS3.Science | E6: =IF(ISNUMBER(TopicLookup[[#This Row],[SyllabusYear]]),_xlfn.CONCAT("Y",TopicLookup[[#This Row],[SyllabusYear]],".",TopicLookup[[#This Row],[SyllabusSubject]]),_xlfn.CONCAT("KS",TopicLookup[[#This Row],[SyllabusKeyStage]],".",TopicLookup[[#This Row],[SyllabusSubject]],".",TopicLookup[[#This Row],[SyllabusYear]])) -> Y7.Science | F6: I | G6: B | H6: 5 | I6: =IF(OR(TopicLookup[[#This Row],[SyllabusYear]]=7,TopicLookup[[#This Row],[SyllabusYear]]=8),_xlfn.CONCAT(TopicLookup[[#This Row],[SyllabusYear]],TopicLookup[[#This Row],[TopicSubjectCode]],TopicLookup[[#This Row],[Topic]]),IF(TopicLookup[[#This Row],[TopicStage]]="G",_xlfn.CONCAT(TopicLookup[[#This Row],[TopicSubjectCode]],TopicLookup[[#This Row],[Topic]]),IF(TopicLookup[[#This Row],[TopicStage]]="A",_xlfn.CONCAT(TopicLookup[[#This Row],[TopicStage]],TopicLookup[[#This Row],[TopicSubjectCode]],".",TopicLookup[[#This Row],[Topic]]),_xlfn.CONCAT(TopicLookup[[#This Row],[TopicStage]]&"."&TopicLookup[[#This Row],[TopicSubjectCode]]&"."&TopicLookup[[#This Row],[Topic]])))) -> 7B5 | J6: Reproduction | K6: {=SUMPRODUCT((LessonLookup[TopicID]=TopicLookup[[#This Row],[TopicID]])*(LessonLookup[SuggestedNumberOfPeriodsForLesson]))} -> 11 | L6: Standard | M6: Test
A7: Science | B7: 3 | C7: 7 | D7: =_xlfn.CONCAT("KS",TopicLookup[[#This Row],[SyllabusKeyStage]],".",TopicLookup[[#This Row],[SyllabusSubject]]) -> KS3.Science | E7: =IF(ISNUMBER(TopicLookup[[#This Row],[SyllabusYear]]),_xlfn.CONCAT("Y",TopicLookup[[#This Row],[SyllabusYear]],".",TopicLookup[[#This Row],[SyllabusSubject]]),_xlfn.CONCAT("KS",TopicLookup[[#This Row],[SyllabusKeyStage]],".",TopicLookup[[#This Row],[SyllabusSubject]],".",TopicLookup[[#This Row],[SyllabusYear]])) -> Y7.Science | F7: I | G7: B | H7: 6 | I7: =IF(OR(TopicLookup[[#This Row],[SyllabusYear]]=7,TopicLookup[[#This Row],[SyllabusYear]]=8),_xlfn.CONCAT(TopicLookup[[#This Row],[SyllabusYear]],TopicLookup[[#This Row],[TopicSubjectCode]],TopicLookup[[#This Row],[Topic]]),IF(TopicLookup[[#This Row],[TopicStage]]="G",_xlfn.CONCAT(TopicLookup[[#This Row],[TopicSubjectCode]],TopicLookup[[#This Row],[Topic]]),IF(TopicLookup[[#This Row],[TopicStage]]="A",_xlfn.CONCAT(TopicLookup[[#This Row],[TopicStage]],TopicLookup[[#This Row],[TopicSubjectCode]],".",TopicLookup[[#This Row],[Topic]]),_xlfn.CONCAT(TopicLookup[[#This Row],[TopicStage]]&"."&TopicLookup[[#This Row],[TopicSubjectCode]]&"."&TopicLookup[[#This Row],[Topic]])))) -> 7B6 | J7: Body Systems And Health | K7: {=SUMPRODUCT((LessonLookup[TopicID]=TopicLookup[[#This Row],[TopicID]])*(LessonLookup[SuggestedNumberOfPeriodsForLesson]))} -> 11 | L7: Standard | M7: Test
A8: Science | B8: 3 | C8: 7 | D8: =_xlfn.CONCAT("KS",TopicLookup[[#This Row],[SyllabusKeyStage]],".",TopicLookup[[#This Row],[SyllabusSubject]]) -> KS3.Science | E8: =IF(ISNUMBER(TopicLookup[[#This Row],[SyllabusYear]]),_xlfn.CONCAT("Y",TopicLookup[[#This Row],[SyllabusYear]],".",TopicLookup[[#This Row],[SyllabusSubject]]),_xlfn.CONCAT("KS",TopicLookup[[#This Row],[SyllabusKeyStage]],".",TopicLookup[[#This Row],[SyllabusSubject]],".",TopicLookup[[#This Row],[SyllabusYear]])) -> Y7.Science | F8: I | G8: C | H8: 1 | I8: =IF(OR(TopicLookup[[#This Row],[SyllabusYear]]=7,TopicLookup[[#This Row],[SyllabusYear]]=8),_xlfn.CONCAT(TopicLookup[[#This Row],[SyllabusYear]],TopicLookup[[#This Row],[TopicSubjectCode]],TopicLookup[[#This Row],[Topic]]),IF(TopicLookup[[#This Row],[TopicStage]]="G",_xlfn.CONCAT(TopicLookup[[#This Row],[TopicSubjectCode]],TopicLookup[[#This Row],[Topic]]),IF(TopicLookup[[#This Row],[TopicStage]]="A",_xlfn.CONCAT(TopicLookup[[#This Row],[TopicStage]],TopicLookup[[#This Row],[TopicSubjectCode]],".",TopicLookup[[#This Row],[Topic]]),_xlfn.CONCAT(TopicLookup[[#This Row],[TopicStage]]&"."&TopicLookup[[#This Row],[TopicSubjectCode]]&"."&TopicLookup[[#This Row],[Topic]])))) -> 7C1 | J8: Introduction To Science | K8: {=SUMPRODUCT((LessonLookup[TopicID]=TopicLookup[[#This Row],[TopicID]])*(LessonLookup[SuggestedNumberOfPeriodsForLesson]))} -> 14 | L8: Standard | M8: Test
A9: Science | B9: 3 | C9: 7 | D9: =_xlfn.CONCAT("KS",TopicLookup[[#This Row],[SyllabusKeyStage]],".",TopicLookup[[#This Row],[SyllabusSubject]]) -> KS3.Science | E9: =IF(ISNUMBER(TopicLookup[[#This Row],[SyllabusYear]]),_xlfn.CONCAT("Y",TopicLookup[[#This Row],[SyllabusYear]],".",TopicLookup[[#This Row],[SyllabusSubject]]),_xlfn.CONCAT("KS",TopicLookup[[#This Row],[SyllabusKeyStage]],".",TopicLookup[[#This Row],[SyllabusSubject]],".",TopicLookup[[#This Row],[SyllabusYear]])) -> Y7.Science | F9: I | G9: C | H9: 2 | I9: =IF(OR(TopicLookup[[#This Row],[SyllabusYear]]=7,TopicLookup[[#This Row],[SyllabusYear]]=8),_xlfn.CONCAT(TopicLookup[[#This Row],[SyllabusYear]],TopicLookup[[#This Row],[TopicSubjectCode]],TopicLookup[[#This Row],[Topic]]),IF(TopicLookup[[#This Row],[TopicStage]]="G",_xlfn.CONCAT(TopicLookup[[#This Row],[TopicSubjectCode]],TopicLookup[[#This Row],[Topic]]),IF(TopicLookup[[#This Row],[TopicStage]]="A",_xlfn.CONCAT(TopicLookup[[#This Row],[TopicStage]],TopicLookup[[#This Row],[TopicSubjectCode]],".",TopicLookup[[#This Row],[Topic]]),_xlfn.CONCAT(TopicLookup[[#This Row],[TopicStage]]&"."&TopicLookup[[#This Row],[TopicSubjectCode]]&"."&TopicLookup[[#This Row],[Topic]])))) -> 7C2 | J9: States Of Matter And Dissolving | K9: {=SUMPRODUCT((LessonLookup[TopicID]=TopicLookup[[#This Row],[TopicID]])*(LessonLookup[SuggestedNumberOfPeriodsForLesson]))} -> 10 | L9: Standard | M9: Test
A10: Science | B10: 3 | C10: 7 | D10: =_xlfn.CONCAT("KS",TopicLookup[[#This Row],[SyllabusKeyStage]],".",TopicLookup[[#This Row],[SyllabusSubject]]) -> KS3.Science | E10: =IF(ISNUMBER(TopicLookup[[#This Row],[SyllabusYear]]),_xlfn.CONCAT("Y",TopicLookup[[#This Row],[SyllabusYear]],".",TopicLookup[[#This Row],[SyllabusSubject]]),_xlfn.CONCAT("KS",TopicLookup[[#This Row],[SyllabusKeyStage]],".",TopicLookup[[#This Row],[SyllabusSubject]],".",TopicLookup[[#This Row],[SyllabusYear]])) -> Y7.Science | F10: I | G10: C | H10: 3 | I10: =IF(OR(TopicLookup[[#This Row],[SyllabusYear]]=7,TopicLookup[[#This Row],[SyllabusYear]]=8),_xlfn.CONCAT(TopicLookup[[#This Row],[SyllabusYear]],TopicLookup[[#This Row],[TopicSubjectCode]],TopicLookup[[#This Row],[Topic]]),IF(TopicLookup[[#This Row],[TopicStage]]="G",_xlfn.CONCAT(TopicLookup[[#This Row],[TopicSubjectCode]],TopicLookup[[#This Row],[Topic]]),IF(TopicLookup[[#This Row],[TopicStage]]="A",_xlfn.CONCAT(TopicLookup[[#This Row],[TopicStage]],TopicLookup[[#This Row],[TopicSubjectCode]],".",TopicLookup[[#This Row],[Topic]]),_xlfn.CONCAT(TopicLookup[[#This Row],[TopicStage]]&"."&TopicLookup[[#This Row],[TopicSubjectCode]]&"."&TopicLookup[[#This Row],[Topic]])))) -> 7C3 | J10: Elements And Compounds | K10: {=SUMPRODUCT((LessonLookup[TopicID]=TopicLookup[[#This Row],[TopicID]])*(LessonLookup[SuggestedNumberOfPeriodsForLesson]))} -> 10 | L10: Standard | M10: Test
A11: Science | B11: 3 | C11: 7 | D11: =_xlfn.CONCAT("KS",TopicLookup[[#This Row],[SyllabusKeyStage]],".",TopicLookup[[#This Row],[SyllabusSubject]]) -> KS3.Science | E11: =IF(ISNUMBER(TopicLookup[[#This Row],[SyllabusYear]]),_xlfn.CONCAT("Y",TopicLookup[[#This Row],[SyllabusYear]],".",TopicLookup[[#This Row],[SyllabusSubject]]),_xlfn.CONCAT("KS",TopicLookup[[#This Row],[SyllabusKeyStage]],".",TopicLookup[[#This Row],[SyllabusSubject]],".",TopicLookup[[#This Row],[SyllabusYear]])) -> Y7.Science | F11: I | G11: C | H11: 4 | I11: =IF(OR(TopicLookup[[#This Row],[SyllabusYear]]=7,TopicLookup[[#This Row],[SyllabusYear]]=8),_xlfn.CONCAT(TopicLookup[[#This Row],[SyllabusYear]],TopicLookup[[#This Row],[TopicSubjectCode]],TopicLookup[[#This Row],[Topic]]),IF(TopicLookup[[#This Row],[TopicStage]]="G",_xlfn.CONCAT(TopicLookup[[#This Row],[TopicSubjectCode]],TopicLookup[[#This Row],[Topic]]),IF(TopicLookup[[#This Row],[TopicStage]]="A",_xlfn.CONCAT(TopicLookup[[#This Row],[TopicStage]],TopicLookup[[#This Row],[TopicSubjectCode]],".",TopicLookup[[#This Row],[Topic]]),_xlfn.CONCAT(TopicLookup[[#This Row],[TopicStage]]&"."&TopicLookup[[#This Row],[TopicSubjectCode]]&"."&TopicLookup[[#This Row],[Topic]])))) -> 7C4 | J11: Mixtures And Separation Techniques | K11: {=SUMPRODUCT((LessonLookup[TopicID]=TopicLookup[[#This Row],[TopicID]])*(LessonLookup[SuggestedNumberOfPeriodsForLesson]))} -> 10 | L11: Standard | M11: Test
A12: Science | B12: 3 | C12: 7 | D12: =_xlfn.CONCAT("KS",TopicLookup[[#This Row],[SyllabusKeyStage]],".",TopicLookup[[#This Row],[SyllabusSubject]]) -> KS3.Science | E12: =IF(ISNUMBER(TopicLookup[[#This Row],[SyllabusYear]]),_xlfn.CONCAT("Y",TopicLookup[[#This Row],[SyllabusYear]],".",TopicLookup[[#This Row],[SyllabusSubject]]),_xlfn.CONCAT("KS",TopicLookup[[#This Row],[SyllabusKeyStage]],".",TopicLookup[[#This Row],[SyllabusSubject]],".",TopicLookup[[#This Row],[SyllabusYear]])) -> Y7.Science | F12: I | G12: C | H12: 5 | I12: =IF(OR(TopicLookup[[#This Row],[SyllabusYear]]=7,TopicLookup[[#This Row],[SyllabusYear]]=8),_xlfn.CONCAT(TopicLookup[[#This Row],[SyllabusYear]],TopicLookup[[#This Row],[TopicSubjectCode]],TopicLookup[[#This Row],[Topic]]),IF(TopicLookup[[#This Row],[TopicStage]]="G",_xlfn.CONCAT(TopicLookup[[#This Row],[TopicSubjectCode]],TopicLookup[[#This Row],[Topic]]),IF(TopicLookup[[#This Row],[TopicStage]]="A",_xlfn.CONCAT(TopicLookup[[#This Row],[TopicStage]],TopicLookup[[#This Row],[TopicSubjectCode]],".",TopicLookup[[#This Row],[Topic]]),_xlfn.CONCAT(TopicLookup[[#This Row],[TopicStage]]&"."&TopicLookup[[#This Row],[TopicSubjectCode]]&"."&TopicLookup[[#This Row],[Topic]])))) -> 7C5 | J12: The Earth's Structure | K12: {=SUMPRODUCT((LessonLookup[TopicID]=TopicLookup[[#This Row],[TopicID]])*(LessonLookup[SuggestedNumberOfPeriodsForLesson]))} -> 10 | L12: Standard | M12: Test
A13: Science | B13: 3 | C13: 7 | D13: =_xlfn.CONCAT("KS",TopicLookup[[#This Row],[SyllabusKeyStage]],".",TopicLookup[[#This Row],[SyllabusSubject]]) -> KS3.Science | E13: =IF(ISNUMBER(TopicLookup[[#This Row],[SyllabusYear]]),_xlfn.CONCAT("Y",TopicLookup[[#This Row],[SyllabusYear]],".",TopicLookup[[#This Row],[SyllabusSubject]]),_xlfn.CONCAT("KS",TopicLookup[[#This Row],[SyllabusKeyStage]],".",TopicLookup[[#This Row],[SyllabusSubject]],".",TopicLookup[[#This Row],[SyllabusYear]])) -> Y7.Science | F13: I | G13: C | H13: 6 | I13: =IF(OR(TopicLookup[[#This Row],[SyllabusYear]]=7,TopicLookup[[#This Row],[SyllabusYear]]=8),_xlfn.CONCAT(TopicLookup[[#This Row],[SyllabusYear]],TopicLookup[[#This Row],[TopicSubjectCode]],TopicLookup[[#This Row],[Topic]]),IF(TopicLookup[[#This Row],[TopicStage]]="G",_xlfn.CONCAT(TopicLookup[[#This Row],[TopicSubjectCode]],TopicLookup[[#This Row],[Topic]]),IF(TopicLookup[[#This Row],[TopicStage]]="A",_xlfn.CONCAT(TopicLookup[[#This Row],[TopicStage]],TopicLookup[[#This Row],[TopicSubjectCode]],".",TopicLookup[[#This Row],[Topic]]),_xlfn.CONCAT(TopicLookup[[#This Row],[TopicStage]]&"."&TopicLookup[[#This Row],[TopicSubjectCode]]&"."&TopicLookup[[#This Row],[Topic]])))) -> 7C6 | J13: Fuels | K13: {=SUMPRODUCT((LessonLookup[TopicID]=TopicLookup[[#This Row],[TopicID]])*(LessonLookup[SuggestedNumberOfPeriodsForLesson]))} -> 10 | L13: Standard | M13: Test
... A37: Science | B37: 3 | C37: 8 | D37: =_xlfn.CONCAT("KS",TopicLookup[[#This Row],[SyllabusKeyStage]],".",TopicLookup[[#This Row],[SyllabusSubject]]) -> KS3.Science | E37: =IF(ISNUMBER(TopicLookup[[#This Row],[SyllabusYear]]),_xlfn.CONCAT("Y",TopicLookup[[#This Row],[SyllabusYear]],".",TopicLookup[[#This Row],[SyllabusSubject]]),_xlfn.CONCAT("KS",TopicLookup[[#This Row],[SyllabusKeyStage]],".",TopicLookup[[#This Row],[SyllabusSubject]],".",TopicLookup[[#This Row],[SyllabusYear]])) -> Y8.Science | F37: I | G37: P | H37: 6 | I37: =IF(OR(TopicLookup[[#This Row],[SyllabusYear]]=7,TopicLookup[[#This Row],[SyllabusYear]]=8),_xlfn.CONCAT(TopicLookup[[#This Row],[SyllabusYear]],TopicLookup[[#This Row],[TopicSubjectCode]],TopicLookup[[#This Row],[Topic]]),IF(TopicLookup[[#This Row],[TopicStage]]="G",_xlfn.CONCAT(TopicLookup[[#This Row],[TopicSubjectCode]],TopicLookup[[#This Row],[Topic]]),IF(TopicLookup[[#This Row],[TopicStage]]="A",_xlfn.CONCAT(TopicLookup[[#This Row],[TopicStage]],TopicLookup[[#This Row],[TopicSubjectCode]],".",TopicLookup[[#This Row],[Topic]]),_xlfn.CONCAT(TopicLookup[[#This Row],[TopicStage]]&"."&TopicLookup[[#This Row],[TopicSubjectCode]]&"."&TopicLookup[[#This Row],[Topic]])))) -> 8P6 | J37: Maths Skills For Scientists | K37: {=SUMPRODUCT((LessonLookup[TopicID]=TopicLookup[[#This Row],[TopicID]])*(LessonLookup[SuggestedNumberOfPeriodsForLesson]))} -> 10 | L37: Standard | M37: Quiz
A38: Physics | B38: 4 | C38: Core | D38: =_xlfn.CONCAT("KS",TopicLookup[[#This Row],[SyllabusKeyStage]],".",TopicLookup[[#This Row],[SyllabusSubject]]) -> KS4.Physics | E38: =IF(ISNUMBER(TopicLookup[[#This Row],[SyllabusYear]]),_xlfn.CONCAT("Y",TopicLookup[[#This Row],[SyllabusYear]],".",TopicLookup[[#This Row],[SyllabusSubject]]),_xlfn.CONCAT("KS",TopicLookup[[#This Row],[SyllabusKeyStage]],".",TopicLookup[[#This Row],[SyllabusSubject]],".",TopicLookup[[#This Row],[SyllabusYear]])) -> KS4.Physics.Core | F38: G | G38: P | H38: 1 | I38: =IF(OR(TopicLookup[[#This Row],[SyllabusYear]]=7,TopicLookup[[#This Row],[SyllabusYear]]=8),_xlfn.CONCAT(TopicLookup[[#This Row],[SyllabusYear]],TopicLookup[[#This Row],[TopicSubjectCode]],TopicLookup[[#This Row],[Topic]]),IF(TopicLookup[[#This Row],[TopicStage]]="G",_xlfn.CONCAT(TopicLookup[[#This Row],[TopicSubjectCode]],TopicLookup[[#This Row],[Topic]]),IF(TopicLookup[[#This Row],[TopicStage]]="A",_xlfn.CONCAT(TopicLookup[[#This Row],[TopicStage]],TopicLookup[[#This Row],[TopicSubjectCode]],".",TopicLookup[[#This Row],[Topic]]),_xlfn.CONCAT(TopicLookup[[#This Row],[TopicStage]]&"."&TopicLookup[[#This Row],[TopicSubjectCode]]&"."&TopicLookup[[#This Row],[Topic]])))) -> P1 | J38: Key Concepts In Physics | K38: {=SUMPRODUCT((LessonLookup[TopicID]=TopicLookup[[#This Row],[TopicID]])*(LessonLookup[SuggestedNumberOfPeriodsForLesson]))} -> 2 | L38: Core | M38: Quiz
A39: Physics | B39: 4 | C39: 10 | D39: =_xlfn.CONCAT("KS",TopicLookup[[#This Row],[SyllabusKeyStage]],".",TopicLookup[[#This Row],[SyllabusSubject]]) -> KS4.Physics | E39: =IF(ISNUMBER(TopicLookup[[#This Row],[SyllabusYear]]),_xlfn.CONCAT("Y",TopicLookup[[#This Row],[SyllabusYear]],".",TopicLookup[[#This Row],[SyllabusSubject]]),_xlfn.CONCAT("KS",TopicLookup[[#This Row],[SyllabusKeyStage]],".",TopicLookup[[#This Row],[SyllabusSubject]],".",TopicLookup[[#This Row],[SyllabusYear]])) -> Y10.Physics | F39: G | G39: P | H39: 2 | I39: =IF(OR(TopicLookup[[#This Row],[SyllabusYear]]=7,TopicLookup[[#This Row],[SyllabusYear]]=8),_xlfn.CONCAT(TopicLookup[[#This Row],[SyllabusYear]],TopicLookup[[#This Row],[TopicSubjectCode]],TopicLookup[[#This Row],[Topic]]),IF(TopicLookup[[#This Row],[TopicStage]]="G",_xlfn.CONCAT(TopicLookup[[#This Row],[TopicSubjectCode]],TopicLookup[[#This Row],[Topic]]),IF(TopicLookup[[#This Row],[TopicStage]]="A",_xlfn.CONCAT(TopicLookup[[#This Row],[TopicStage]],TopicLookup[[#This Row],[TopicSubjectCode]],".",TopicLookup[[#This Row],[Topic]]),_xlfn.CONCAT(TopicLookup[[#This Row],[TopicStage]]&"."&TopicLookup[[#This Row],[TopicSubjectCode]]&"."&TopicLookup[[#This Row],[Topic]])))) -> P2 | J39: Motion And Forces | K39: {=SUMPRODUCT((LessonLookup[TopicID]=TopicLookup[[#This Row],[TopicID]])*(LessonLookup[SuggestedNumberOfPeriodsForLesson]))} -> 16 | L39: Standard | M39: Test
A40: Physics | B40: 4 | C40: 9 | D40: =_xlfn.CONCAT("KS",TopicLookup[[#This Row],[SyllabusKeyStage]],".",TopicLookup[[#This Row],[SyllabusSubject]]) -> KS4.Physics | E40: =IF(ISNUMBER(TopicLookup[[#This Row],[SyllabusYear]]),_xlfn.CONCAT("Y",TopicLookup[[#This Row],[SyllabusYear]],".",TopicLookup[[#This Row],[SyllabusSubject]]),_xlfn.CONCAT("KS",TopicLookup[[#This Row],[SyllabusKeyStage]],".",TopicLookup[[#This Row],[SyllabusSubject]],".",TopicLookup[[#This Row],[SyllabusYear]])) -> Y9.Physics | F40: G | G40: P | H40: 3 | I40: =IF(OR(TopicLookup[[#This Row],[SyllabusYear]]=7,TopicLookup[[#This Row],[SyllabusYear]]=8),_xlfn.CONCAT(TopicLookup[[#This Row],[SyllabusYear]],TopicLookup[[#This Row],[TopicSubjectCode]],TopicLookup[[#This Row],[Topic]]),IF(TopicLookup[[#This Row],[TopicStage]]="G",_xlfn.CONCAT(TopicLookup[[#This Row],[TopicSubjectCode]],TopicLookup[[#This Row],[Topic]]),IF(TopicLookup[[#This Row],[TopicStage]]="A",_xlfn.CONCAT(TopicLookup[[#This Row],[TopicStage]],TopicLookup[[#This Row],[TopicSubjectCode]],".",TopicLookup[[#This Row],[Topic]]),_xlfn.CONCAT(TopicLookup[[#This Row],[TopicStage]]&"."&TopicLookup[[#This Row],[TopicSubjectCode]]&"."&TopicLookup[[#This Row],[Topic]])))) -> P3 | J40: Conservation Of Energy | K40: {=SUMPRODUCT((LessonLookup[TopicID]=TopicLookup[[#This Row],[TopicID]])*(LessonLookup[SuggestedNumberOfPeriodsForLesson]))} -> 9 | L40: Standard | M40: Test
A41: Physics | B41: 4 | C41: 9 | D41: =_xlfn.CONCAT("KS",TopicLookup[[#This Row],[SyllabusKeyStage]],".",TopicLookup[[#This Row],[SyllabusSubject]]) -> KS4.Physics | E41: =IF(ISNUMBER(TopicLookup[[#This Row],[SyllabusYear]]),_xlfn.CONCAT("Y",TopicLookup[[#This Row],[SyllabusYear]],".",TopicLookup[[#This Row],[SyllabusSubject]]),_xlfn.CONCAT("KS",TopicLookup[[#This Row],[SyllabusKeyStage]],".",TopicLookup[[#This Row],[SyllabusSubject]],".",TopicLookup[[#This Row],[SyllabusYear]])) -> Y9.Physics | F41: G | G41: P | H41: 4 | I41: =IF(OR(TopicLookup[[#This Row],[SyllabusYear]]=7,TopicLookup[[#This Row],[SyllabusYear]]=8),_xlfn.CONCAT(TopicLookup[[#This Row],[SyllabusYear]],TopicLookup[[#This Row],[TopicSubjectCode]],TopicLookup[[#This Row],[Topic]]),IF(TopicLookup[[#This Row],[TopicStage]]="G",_xlfn.CONCAT(TopicLookup[[#This Row],[TopicSubjectCode]],TopicLookup[[#This Row],[Topic]]),IF(TopicLookup[[#This Row],[TopicStage]]="A",_xlfn.CONCAT(TopicLookup[[#This Row],[TopicStage]],TopicLookup[[#This Row],[TopicSubjectCode]],".",TopicLookup[[#This Row],[Topic]]),_xlfn.CONCAT(TopicLookup[[#This Row],[TopicStage]]&"."&TopicLookup[[#This Row],[TopicSubjectCode]]&"."&TopicLookup[[#This Row],[Topic]])))) -> P4 | J41: Waves | K41: {=SUMPRODUCT((LessonLookup[TopicID]=TopicLookup[[#This Row],[TopicID]])*(LessonLookup[SuggestedNumberOfPeriodsForLesson]))} -> 10 | L41: Standard | M41: Test
A42: Physics | B42: 4 | C42: 9 | D42: =_xlfn.CONCAT("KS",TopicLookup[[#This Row],[SyllabusKeyStage]],".",TopicLookup[[#This Row],[SyllabusSubject]]) -> KS4.Physics | E42: =IF(ISNUMBER(TopicLookup[[#This Row],[SyllabusYear]]),_xlfn.CONCAT("Y",TopicLookup[[#This Row],[SyllabusYear]],".",TopicLookup[[#This Row],[SyllabusSubject]]),_xlfn.CONCAT("KS",TopicLookup[[#This Row],[SyllabusKeyStage]],".",TopicLookup[[#This Row],[SyllabusSubject]],".",TopicLookup[[#This Row],[SyllabusYear]])) -> Y9.Physics | F42: G | G42: P | H42: 5 | I42: =IF(OR(TopicLookup[[#This Row],[SyllabusYear]]=7,TopicLookup[[#This Row],[SyllabusYear]]=8),_xlfn.CONCAT(TopicLookup[[#This Row],[SyllabusYear]],TopicLookup[[#This Row],[TopicSubjectCode]],TopicLookup[[#This Row],[Topic]]),IF(TopicLookup[[#This Row],[TopicStage]]="G",_xlfn.CONCAT(TopicLookup[[#This Row],[TopicSubjectCode]],TopicLookup[[#This Row],[Topic]]),IF(TopicLookup[[#This Row],[TopicStage]]="A",_xlfn.CONCAT(TopicLookup[[#This Row],[TopicStage]],TopicLookup[[#This Row],[TopicSubjectCode]],".",TopicLookup[[#This Row],[Topic]]),_xlfn.CONCAT(TopicLookup[[#This Row],[TopicStage]]&"."&TopicLookup[[#This Row],[TopicSubjectCode]]&"."&TopicLookup[[#This Row],[Topic]])))) -> P5 | J42: Light And The Electromagnetic Spectrum | K42: {=SUMPRODUCT((LessonLookup[TopicID]=TopicLookup[[#This Row],[TopicID]])*(LessonLookup[SuggestedNumberOfPeriodsForLesson]))} -> 12 | L42: Standard | M42: Test
A43: Physics | B43: 4 | C43: 9 | D43: =_xlfn.CONCAT("KS",TopicLookup[[#This Row],[SyllabusKeyStage]],".",TopicLookup[[#This Row],[SyllabusSubject]]) -> KS4.Physics | E43: =IF(ISNUMBER(TopicLookup[[#This Row],[SyllabusYear]]),_xlfn.CONCAT("Y",TopicLookup[[#This Row],[SyllabusYear]],".",TopicLookup[[#This Row],[SyllabusSubject]]),_xlfn.CONCAT("KS",TopicLookup[[#This Row],[SyllabusKeyStage]],".",TopicLookup[[#This Row],[SyllabusSubject]],".",TopicLookup[[#This Row],[SyllabusYear]])) -> Y9.Physics | F43: G | G43: P | H43: 6 | I43: =IF(OR(TopicLookup[[#This Row],[SyllabusYear]]=7,TopicLookup[[#This Row],[SyllabusYear]]=8),_xlfn.CONCAT(TopicLookup[[#This Row],[SyllabusYear]],TopicLookup[[#This Row],[TopicSubjectCode]],TopicLookup[[#This Row],[Topic]]),IF(TopicLookup[[#This Row],[TopicStage]]="G",_xlfn.CONCAT(TopicLookup[[#This Row],[TopicSubjectCode]],TopicLookup[[#This Row],[Topic]]),IF(TopicLookup[[#This Row],[TopicStage]]="A",_xlfn.CONCAT(TopicLookup[[#This Row],[TopicStage]],TopicLookup[[#This Row],[TopicSubjectCode]],".",TopicLookup[[#This Row],[Topic]]),_xlfn.CONCAT(TopicLookup[[#This Row],[TopicStage]]&"."&TopicLookup[[#This Row],[TopicSubjectCode]]&"."&TopicLookup[[#This Row],[Topic]])))) -> P6 | J43: Radioactivity | K43: {=SUMPRODUCT((LessonLookup[TopicID]=TopicLookup[[#This Row],[TopicID]])*(LessonLookup[SuggestedNumberOfPeriodsForLesson]))} -> 16 | L43: Standard | M43: Test
A44: Physics | B44: 4 | C44: 11 | D44: =_xlfn.CONCAT("KS",TopicLookup[[#This Row],[SyllabusKeyStage]],".",TopicLookup[[#This Row],[SyllabusSubject]]) -> KS4.Physics | E44: =IF(ISNUMBER(TopicLookup[[#This Row],[SyllabusYear]]),_xlfn.CONCAT("Y",TopicLookup[[#This Row],[SyllabusYear]],".",TopicLookup[[#This Row],[SyllabusSubject]]),_xlfn.CONCAT("KS",TopicLookup[[#This Row],[SyllabusKeyStage]],".",TopicLookup[[#This Row],[SyllabusSubject]],".",TopicLookup[[#This Row],[SyllabusYear]])) -> Y11.Physics | F44: G | G44: P | H44: 6s | I44: =IF(OR(TopicLookup[[#This Row],[SyllabusYear]]=7,TopicLookup[[#This Row],[SyllabusYear]]=8),_xlfn.CONCAT(TopicLookup[[#This Row],[SyllabusYear]],TopicLookup[[#This Row],[TopicSubjectCode]],TopicLookup[[#This Row],[Topic]]),IF(TopicLookup[[#This Row],[TopicStage]]="G",_xlfn.CONCAT(TopicLookup[[#This Row],[TopicSubjectCode]],TopicLookup[[#This Row],[Topic]]),IF(TopicLookup[[#This Row],[TopicStage]]="A",_xlfn.CONCAT(TopicLookup[[#This Row],[TopicStage]],TopicLookup[[#This Row],[TopicSubjectCode]],".",TopicLookup[[#This Row],[Topic]]),_xlfn.CONCAT(TopicLookup[[#This Row],[TopicStage]]&"."&TopicLookup[[#This Row],[TopicSubjectCode]]&"."&TopicLookup[[#This Row],[Topic]])))) -> P6s | J44: Radioactivity (separate) | K44: {=SUMPRODUCT((LessonLookup[TopicID]=TopicLookup[[#This Row],[TopicID]])*(LessonLookup[SuggestedNumberOfPeriodsForLesson]))} -> 0 | L44: Standard | M44: Test
A45: Physics | B45: 4 | C45: 11 | D45: =_xlfn.CONCAT("KS",TopicLookup[[#This Row],[SyllabusKeyStage]],".",TopicLookup[[#This Row],[SyllabusSubject]]) -> KS4.Physics | E45: =IF(ISNUMBER(TopicLookup[[#This Row],[SyllabusYear]]),_xlfn.CONCAT("Y",TopicLookup[[#This Row],[SyllabusYear]],".",TopicLookup[[#This Row],[SyllabusSubject]]),_xlfn.CONCAT("KS",TopicLookup[[#This Row],[SyllabusKeyStage]],".",TopicLookup[[#This Row],[SyllabusSubject]],".",TopicLookup[[#This Row],[SyllabusYear]])) -> Y11.Physics | F45: G | G45: P | H45: 7 | I45: =IF(OR(TopicLookup[[#This Row],[SyllabusYear]]=7,TopicLookup[[#This Row],[SyllabusYear]]=8),_xlfn.CONCAT(TopicLookup[[#This Row],[SyllabusYear]],TopicLookup[[#This Row],[TopicSubjectCode]],TopicLookup[[#This Row],[Topic]]),IF(TopicLookup[[#This Row],[TopicStage]]="G",_xlfn.CONCAT(TopicLookup[[#This Row],[TopicSubjectCode]],TopicLookup[[#This Row],[Topic]]),IF(TopicLookup[[#This Row],[TopicStage]]="A",_xlfn.CONCAT(TopicLookup[[#This Row],[TopicStage]],TopicLookup[[#This Row],[TopicSubjectCode]],".",TopicLookup[[#This Row],[Topic]]),_xlfn.CONCAT(TopicLookup[[#This Row],[TopicStage]]&"."&TopicLookup[[#This Row],[TopicSubjectCode]]&"."&TopicLookup[[#This Row],[Topic]])))) -> P7 | J45: Astronomy | K45: {=SUMPRODUCT((LessonLookup[TopicID]=TopicLookup[[#This Row],[TopicID]])*(LessonLookup[SuggestedNumberOfPeriodsForLesson]))} -> 8 | L45: Standard | M45: Test
A46: Physics | B46: 4 | C46: 9 | D46: =_xlfn.CONCAT("KS",TopicLookup[[#This Row],[SyllabusKeyStage]],".",TopicLookup[[#This Row],[SyllabusSubject]]) -> KS4.Physics | E46: =IF(ISNUMBER(TopicLookup[[#This Row],[SyllabusYear]]),_xlfn.CONCAT("Y",TopicLookup[[#This Row],[SyllabusYear]],".",TopicLookup[[#This Row],[SyllabusSubject]]),_xlfn.CONCAT("KS",TopicLookup[[#This Row],[SyllabusKeyStage]],".",TopicLookup[[#This Row],[SyllabusSubject]],".",TopicLookup[[#This Row],[SyllabusYear]])) -> Y9.Physics | F46: G | G46: P | H46: 8 | I46: =IF(OR(TopicLookup[[#This Row],[SyllabusYear]]=7,TopicLookup[[#This Row],[SyllabusYear]]=8),_xlfn.CONCAT(TopicLookup[[#This Row],[SyllabusYear]],TopicLookup[[#This Row],[TopicSubjectCode]],TopicLookup[[#This Row],[Topic]]),IF(TopicLookup[[#This Row],[TopicStage]]="G",_xlfn.CONCAT(TopicLookup[[#This Row],[TopicSubjectCode]],TopicLookup[[#This Row],[Topic]]),IF(TopicLookup[[#This Row],[TopicStage]]="A",_xlfn.CONCAT(TopicLookup[[#This Row],[TopicStage]],TopicLookup[[#This Row],[TopicSubjectCode]],".",TopicLookup[[#This Row],[Topic]]),_xlfn.CONCAT(TopicLookup[[#This Row],[TopicStage]]&"."&TopicLookup[[#This Row],[TopicSubjectCode]]&"."&TopicLookup[[#This Row],[Topic]])))) -> P8 | J46: Energy - Forces Doing Work | K46: {=SUMPRODUCT((LessonLookup[TopicID]=TopicLookup[[#This Row],[TopicID]])*(LessonLookup[SuggestedNumberOfPeriodsForLesson]))} -> 1 | L46: Standard | M46: Test
A47: Physics | B47: 4 | C47: 11 | D47: =_xlfn.CONCAT("KS",TopicLookup[[#This Row],[SyllabusKeyStage]],".",TopicLookup[[#This Row],[SyllabusSubject]]) -> KS4.Physics | E47: =IF(ISNUMBER(TopicLookup[[#This Row],[SyllabusYear]]),_xlfn.CONCAT("Y",TopicLookup[[#This Row],[SyllabusYear]],".",TopicLookup[[#This Row],[SyllabusSubject]]),_xlfn.CONCAT("KS",TopicLookup[[#This Row],[SyllabusKeyStage]],".",TopicLookup[[#This Row],[SyllabusSubject]],".",TopicLookup[[#This Row],[SyllabusYear]])) -> Y11.Physics | F47: G | G47: P | H47: 9 | I47: =IF(OR(TopicLookup[[#This Row],[SyllabusYear]]=7,TopicLookup[[#This Row],[SyllabusYear]]=8),_xlfn.CONCAT(TopicLookup[[#This Row],[SyllabusYear]],TopicLookup[[#This Row],[TopicSubjectCode]],TopicLookup[[#This Row],[Topic]]),IF(TopicLookup[[#This Row],[TopicStage]]="G",_xlfn.CONCAT(TopicLookup[[#This Row],[TopicSubjectCode]],TopicLookup[[#This Row],[Topic]]),IF(TopicLookup[[#This Row],[TopicStage]]="A",_xlfn.CONCAT(TopicLookup[[#This Row],[TopicStage]],TopicLookup[[#This Row],[TopicSubjectCode]],".",TopicLookup[[#This Row],[Topic]]),_xlfn.CONCAT(TopicLookup[[#This Row],[TopicStage]]&"."&TopicLookup[[#This Row],[TopicSubjectCode]]&"."&TopicLookup[[#This Row],[Topic]])))) -> P9 | J47: Forces And Their Effects | K47: {=SUMPRODUCT((LessonLookup[TopicID]=TopicLookup[[#This Row],[TopicID]])*(LessonLookup[SuggestedNumberOfPeriodsForLesson]))} -> 6 | L47: Standard | M47: Test
A48: Physics | B48: 4 | C48: 10 | D48: =_xlfn.CONCAT("KS",TopicLookup[[#This Row],[SyllabusKeyStage]],".",TopicLookup[[#This Row],[SyllabusSubject]]) -> KS4.Physics | E48: =IF(ISNUMBER(TopicLookup[[#This Row],[SyllabusYear]]),_xlfn.CONCAT("Y",TopicLookup[[#This Row],[SyllabusYear]],".",TopicLookup[[#This Row],[SyllabusSubject]]),_xlfn.CONCAT("KS",TopicLookup[[#This Row],[SyllabusKeyStage]],".",TopicLookup[[#This Row],[SyllabusSubject]],".",TopicLookup[[#This Row],[SyllabusYear]])) -> Y10.Physics | F48: G | G48: P | H48: 10 | I48: =IF(OR(TopicLookup[[#This Row],[SyllabusYear]]=7,TopicLookup[[#This Row],[SyllabusYear]]=8),_xlfn.CONCAT(TopicLookup[[#This Row],[SyllabusYear]],TopicLookup[[#This Row],[TopicSubjectCode]],TopicLookup[[#This Row],[Topic]]),IF(TopicLookup[[#This Row],[TopicStage]]="G",_xlfn.CONCAT(TopicLookup[[#This Row],[TopicSubjectCode]],TopicLookup[[#This Row],[Topic]]),IF(TopicLookup[[#This Row],[TopicStage]]="A",_xlfn.CONCAT(TopicLookup[[#This Row],[TopicStage]],TopicLookup[[#This Row],[TopicSubjectCode]],".",TopicLookup[[#This Row],[Topic]]),_xlfn.CONCAT(TopicLookup[[#This Row],[TopicStage]]&"."&TopicLookup[[#This Row],[TopicSubjectCode]]&"."&TopicLookup[[#This Row],[Topic]])))) -> P10 | J48: Electricity And Circuits | K48: {=SUMPRODUCT((LessonLookup[TopicID]=TopicLookup[[#This Row],[TopicID]])*(LessonLookup[SuggestedNumberOfPeriodsForLesson]))} -> 21 | L48: Standard | M48: Test
